BEGIN:VCALENDAR
VERSION:2.0
PRODID:-//Krinco-Consult.de - ECPv6.15.20//NONSGML v1.0//EN
CALSCALE:GREGORIAN
METHOD:PUBLISH
X-ORIGINAL-URL:https://krinco-consult.de
X-WR-CALDESC:Veranstaltungen für Krinco-Consult.de
REFRESH-INTERVAL;VALUE=DURATION:PT1H
X-Robots-Tag:noindex
X-PUBLISHED-TTL:PT1H
BEGIN:VTIMEZONE
TZID:Europe/Berlin
BEGIN:DAYLIGHT
TZOFFSETFROM:+0100
TZOFFSETTO:+0200
TZNAME:CEST
DTSTART:20250330T010000
END:DAYLIGHT
BEGIN:STANDARD
TZOFFSETFROM:+0200
TZOFFSETTO:+0100
TZNAME:CET
DTSTART:20251026T010000
END:STANDARD
BEGIN:DAYLIGHT
TZOFFSETFROM:+0100
TZOFFSETTO:+0200
TZNAME:CEST
DTSTART:20260329T010000
END:DAYLIGHT
BEGIN:STANDARD
TZOFFSETFROM:+0200
TZOFFSETTO:+0100
TZNAME:CET
DTSTART:20261025T010000
END:STANDARD
BEGIN:DAYLIGHT
TZOFFSETFROM:+0100
TZOFFSETTO:+0200
TZNAME:CEST
DTSTART:20270328T010000
END:DAYLIGHT
BEGIN:STANDARD
TZOFFSETFROM:+0200
TZOFFSETTO:+0100
TZNAME:CET
DTSTART:20271031T010000
END:STANDARD
END:VTIMEZONE
BEGIN:VEVENT
DTSTART;TZID=Europe/Berlin:20261104T083000
DTEND;TZID=Europe/Berlin:20261105T160000
DTSTAMP:20260419T200841
CREATED:20260211T203606Z
LAST-MODIFIED:20260322T015113Z
UID:188558-1793781000-1793894400@krinco-consult.de
SUMMARY:Engineering Summit 2026
DESCRIPTION:Der Engineering Summit 2026 findet am 15. und 16. September in Darmstadt statt und bringt zum zwölften Mal führende Entscheider und Führungskräfte des europäischen Anlagenbaus zusammen. Die Veranstaltung richtet sich an Top‑Management und leitende Fachkräfte aus Planung\, Owners Engineering\, strategischer Zulieferindustrie sowie aus allen relevanten Branchen – von Chemie und Öl & Gas über Kraftwerke bis hin zu Stahl und Zement.\nNach der erfolgreichen Ausgabe 2025 mit über 250 Teilnehmenden\, spannenden Impulsen zu KI‑Anwendungen und strategischen Herausforderungen sowie einem vielseitigen Rahmenprogramm\, setzt der Summit 2026 die Reihe mit aktuellen Themen\, hochkarätigen Vorträgen und exzellenten Networking‑Möglichkeiten fort. Die Teilnehmer erwarten praxisorientierte Diskussionen\, neue Perspektiven auf die Zukunft des Anlagenbaus und ein branchenübergreifender Austausch auf höchstem Niveau.
URL:https://krinco-consult.de/event/engineering-summit-2026
LOCATION:Darmstadtium\, Schlossgraben 1\, Darmstadt\, 64283
ORGANIZER;CN="Ultima Media Germany GmbH":MAILTO:info@ultimamedia.de
END:VEVENT
END:VCALENDAR